BEGIN:VCALENDAR
VERSION:2.0
PRODID:-//Molen Orthodontics - ECPv6.15.20//NONSGML v1.0//EN
CALSCALE:GREGORIAN
METHOD:PUBLISH
X-WR-CALNAME:Molen Orthodontics
X-ORIGINAL-URL:https://molenorthodontics.com
X-WR-CALDESC:Events for Molen Orthodontics
REFRESH-INTERVAL;VALUE=DURATION:PT1H
X-Robots-Tag:noindex
X-PUBLISHED-TTL:PT1H
BEGIN:VTIMEZONE
TZID:UTC
BEGIN:STANDARD
TZOFFSETFROM:+0000
TZOFFSETTO:+0000
TZNAME:UTC
DTSTART:20240101T000000
END:STANDARD
END:VTIMEZONE
BEGIN:VEVENT
DTSTART;TZID=UTC:20250913T120000
DTEND;TZID=UTC:20250913T160000
DTSTAMP:20260420T095113
CREATED:20250825T220644Z
LAST-MODIFIED:20250825T220644Z
UID:66340-1757764800-1757779200@molenorthodontics.com
SUMMARY:Tehaleh's Northwest Fest
DESCRIPTION:Get Ready for Tehaleh’s biggest event of the year! Northwest Fest is Saturday\, September 13th from 12pm-4pm in Discovery Park! There will be over 40 vendors and activities including face painting\, food trucks\, live music and so much more! \nCome see us at our Molen booth for the chance to snag some Molen swg and a special promotion just for this event!
URL:https://molenorthodontics.com/event/tehalehs-northwest-fest/
LOCATION:Discovery Park\, 17834 Cascadia Boulevard East\, Bonney Lake\, WA\, 98391\, United States
ATTACH;FMTTYPE=image/jpeg:https://molenorthodontics.com/wp-content/uploads/2025/08/northwest.jpg
END:VEVENT
END:VCALENDAR